BEGIN:VCALENDAR
VERSION:2.0
PRODID:-//Hovnanian School - ECPv6.15.20//NONSGML v1.0//EN
CALSCALE:GREGORIAN
METHOD:PUBLISH
X-ORIGINAL-URL:https://hovnanianschools.org
X-WR-CALDESC:Events for Hovnanian School
REFRESH-INTERVAL;VALUE=DURATION:PT1H
X-Robots-Tag:noindex
X-PUBLISHED-TTL:PT1H
BEGIN:VTIMEZONE
TZID:America/New_York
BEGIN:DAYLIGHT
TZOFFSETFROM:-0500
TZOFFSETTO:-0400
TZNAME:EDT
DTSTART:20240310T070000
END:DAYLIGHT
BEGIN:STANDARD
TZOFFSETFROM:-0400
TZOFFSETTO:-0500
TZNAME:EST
DTSTART:20241103T060000
END:STANDARD
BEGIN:DAYLIGHT
TZOFFSETFROM:-0500
TZOFFSETTO:-0400
TZNAME:EDT
DTSTART:20250309T070000
END:DAYLIGHT
BEGIN:STANDARD
TZOFFSETFROM:-0400
TZOFFSETTO:-0500
TZNAME:EST
DTSTART:20251102T060000
END:STANDARD
BEGIN:DAYLIGHT
TZOFFSETFROM:-0500
TZOFFSETTO:-0400
TZNAME:EDT
DTSTART:20260308T070000
END:DAYLIGHT
BEGIN:STANDARD
TZOFFSETFROM:-0400
TZOFFSETTO:-0500
TZNAME:EST
DTSTART:20261101T060000
END:STANDARD
END:VTIMEZONE
BEGIN:VEVENT
DTSTART;TZID=America/New_York:20250501T110000
DTEND;TZID=America/New_York:20250501T143000
DTSTAMP:20260422T102030
CREATED:20250206T155906Z
LAST-MODIFIED:20250417T010059Z
UID:16625-1746097200-1746109800@hovnanianschools.org
SUMMARY:Mother’s Day Luncheon 2025
DESCRIPTION:Hovnanian School PTO invites you to a Mediterranean-themed Mother’s Day Luncheon on Thursday\, May 1st at 11:00 AM. Join us\, as we celebrate all the incredible women in our community. \n  \nTickets are $100. Please purchase your ticket(s) through the link below.  Please note\, there is no additional fee for online purchases. \n  \nIf you would like to pay by check\, please email mdlhov2025@gmail.com with the following information:\n– number of tickets\n– names of each ticket holder\n– seating requests (if any) \nPlease make your check payable to Hovnanian PTO and send / bring your check to the Hovnanian School office. Your payment is your reservation. \n  \nIf you have any questions please email us at mdlhov2025@gmail.com. \nWe look forward to seeing you on May 1st!
URL:https://hovnanianschools.org/single-event/mothers-day-luncheon-2025/
LOCATION:Hovnanian School\, 817 River Road\, New Milford\, NJ\, 07646\, United States
CATEGORIES:Events
ATTACH;FMTTYPE=image/jpeg:https://hovnanianschools.org/wp-content/uploads/2025/02/mothers_day.jpg
END:VEVENT
END:VCALENDAR