BEGIN:VCALENDAR
VERSION:2.0
PRODID:-//Hovnanian School - ECPv6.15.20//NONSGML v1.0//EN
CALSCALE:GREGORIAN
METHOD:PUBLISH
X-ORIGINAL-URL:https://hovnanianschools.org
X-WR-CALDESC:Events for Hovnanian School
REFRESH-INTERVAL;VALUE=DURATION:PT1H
X-Robots-Tag:noindex
X-PUBLISHED-TTL:PT1H
BEGIN:VTIMEZONE
TZID:America/New_York
BEGIN:DAYLIGHT
TZOFFSETFROM:-0500
TZOFFSETTO:-0400
TZNAME:EDT
DTSTART:20240310T070000
END:DAYLIGHT
BEGIN:STANDARD
TZOFFSETFROM:-0400
TZOFFSETTO:-0500
TZNAME:EST
DTSTART:20241103T060000
END:STANDARD
BEGIN:DAYLIGHT
TZOFFSETFROM:-0500
TZOFFSETTO:-0400
TZNAME:EDT
DTSTART:20250309T070000
END:DAYLIGHT
BEGIN:STANDARD
TZOFFSETFROM:-0400
TZOFFSETTO:-0500
TZNAME:EST
DTSTART:20251102T060000
END:STANDARD
BEGIN:DAYLIGHT
TZOFFSETFROM:-0500
TZOFFSETTO:-0400
TZNAME:EDT
DTSTART:20260308T070000
END:DAYLIGHT
BEGIN:STANDARD
TZOFFSETFROM:-0400
TZOFFSETTO:-0500
TZNAME:EST
DTSTART:20261101T060000
END:STANDARD
END:VTIMEZONE
BEGIN:VEVENT
DTSTART;TZID=America/New_York:20251115T190000
DTEND;TZID=America/New_York:20251116T160000
DTSTAMP:20260421T222341
CREATED:20250925T021859Z
LAST-MODIFIED:20250927T132824Z
UID:18667-1763233200-1763308800@hovnanianschools.org
SUMMARY:ART in FALL
DESCRIPTION:YOU’RE INVITED TO THE 13TH ANNUAL \nART in FALL\nA Celebration of Armenian Art & Creativity \nStep into a vibrant world of color\, culture\, and community as we showcase the work of incredible Armenian artists. Whether you’re a longtime art lover or just looking for a night of inspiration\, music\, and great food — this is where you want to be. \n\nSATURDAY NIGHT OPENING RECEPTION\nNovember 15\, 20257:00 – 11:00 PM\nLive Jazz with Alex Minasian’s Trio\nHors d’Oeuvres Buffet + Artistic Vibes$75 DonationAdult reception | Dress to express! \n\nSUNDAY BRUNCH & ART\nNovember 16\, 20251:00 – 4:00 PMMimosas + BrunchA relaxed\, art-filled afternoon$30 DonationComplimentary with Saturday night’s ticket \n\nSupport local Armenian artists. Discover bold works. Connect with community.Let art move you. \n\nInstagram: @Art.in.Fall\nFacebook: ArtInFall\nWebsite: ART in FALL\n 
URL:https://hovnanianschools.org/single-event/art-in-fall/
LOCATION:NJ
CATEGORIES:Events
ATTACH;FMTTYPE=image/jpeg:https://hovnanianschools.org/wp-content/uploads/2025/09/AIF_Front2025.jpg
END:VEVENT
END:VCALENDAR