BEGIN:VCALENDAR
VERSION:2.0
PRODID:-//Hovnanian School - ECPv6.15.20//NONSGML v1.0//EN
CALSCALE:GREGORIAN
METHOD:PUBLISH
X-WR-CALNAME:Hovnanian School
X-ORIGINAL-URL:https://hovnanianschools.org
X-WR-CALDESC:Events for Hovnanian School
REFRESH-INTERVAL;VALUE=DURATION:PT1H
X-Robots-Tag:noindex
X-PUBLISHED-TTL:PT1H
BEGIN:VTIMEZONE
TZID:America/New_York
BEGIN:DAYLIGHT
TZOFFSETFROM:-0500
TZOFFSETTO:-0400
TZNAME:EDT
DTSTART:20240310T070000
END:DAYLIGHT
BEGIN:STANDARD
TZOFFSETFROM:-0400
TZOFFSETTO:-0500
TZNAME:EST
DTSTART:20241103T060000
END:STANDARD
BEGIN:DAYLIGHT
TZOFFSETFROM:-0500
TZOFFSETTO:-0400
TZNAME:EDT
DTSTART:20250309T070000
END:DAYLIGHT
BEGIN:STANDARD
TZOFFSETFROM:-0400
TZOFFSETTO:-0500
TZNAME:EST
DTSTART:20251102T060000
END:STANDARD
BEGIN:DAYLIGHT
TZOFFSETFROM:-0500
TZOFFSETTO:-0400
TZNAME:EDT
DTSTART:20260308T070000
END:DAYLIGHT
BEGIN:STANDARD
TZOFFSETFROM:-0400
TZOFFSETTO:-0500
TZNAME:EST
DTSTART:20261101T060000
END:STANDARD
END:VTIMEZONE
BEGIN:VEVENT
DTSTART;TZID=America/New_York:20251129T170000
DTEND;TZID=America/New_York:20251129T200000
DTSTAMP:20260421T222925
CREATED:20251009T015852Z
LAST-MODIFIED:20251016T004151Z
UID:18684-1764435600-1764446400@hovnanianschools.org
SUMMARY:2025 Reunion
DESCRIPTION:2025 Reunion \nJoin us for the upcoming third annual Hovnanian School Reunion on Saturday\, November 29\, 2025 from 5 – 8 PM.  Hovnanian is very much looking forward to celebrating with you. All alumni since the school’s inception back in 1976 (and their families) have been invited to return to Hovnanian. \nThere will be a short presentation to honor the distinguished and young alumni award recipients as well as the class of 2025 for their legacy gift of Armenian chess pieces purchased on their 8th grade trip to Armenia and chess tables. Reconnect with classmates\, faculty and former faculty\, eat delicious Armenian food\, enjoy a live DJ\, cash bar and purchase school swag!
URL:https://hovnanianschools.org/single-event/2025-reunion/
LOCATION:NJ
CATEGORIES:Events
ATTACH;FMTTYPE=image/png:https://hovnanianschools.org/wp-content/uploads/2025/10/HOVNANIAN-SCHOOL-REUNION.png
ORGANIZER;CN="Hovnanian School":MAILTO:office@hovnanianschools.org
END:VEVENT
END:VCALENDAR