BEGIN:VCALENDAR
VERSION:2.0
PRODID:-//Hovnanian School - ECPv6.15.20//NONSGML v1.0//EN
CALSCALE:GREGORIAN
METHOD:PUBLISH
X-WR-CALNAME:Hovnanian School
X-ORIGINAL-URL:https://hovnanianschools.org
X-WR-CALDESC:Events for Hovnanian School
REFRESH-INTERVAL;VALUE=DURATION:PT1H
X-Robots-Tag:noindex
X-PUBLISHED-TTL:PT1H
BEGIN:VTIMEZONE
TZID:America/New_York
BEGIN:DAYLIGHT
TZOFFSETFROM:-0500
TZOFFSETTO:-0400
TZNAME:EDT
DTSTART:20240310T070000
END:DAYLIGHT
BEGIN:STANDARD
TZOFFSETFROM:-0400
TZOFFSETTO:-0500
TZNAME:EST
DTSTART:20241103T060000
END:STANDARD
BEGIN:DAYLIGHT
TZOFFSETFROM:-0500
TZOFFSETTO:-0400
TZNAME:EDT
DTSTART:20250309T070000
END:DAYLIGHT
BEGIN:STANDARD
TZOFFSETFROM:-0400
TZOFFSETTO:-0500
TZNAME:EST
DTSTART:20251102T060000
END:STANDARD
BEGIN:DAYLIGHT
TZOFFSETFROM:-0500
TZOFFSETTO:-0400
TZNAME:EDT
DTSTART:20260308T070000
END:DAYLIGHT
BEGIN:STANDARD
TZOFFSETFROM:-0400
TZOFFSETTO:-0500
TZNAME:EST
DTSTART:20261101T060000
END:STANDARD
END:VTIMEZONE
BEGIN:VEVENT
DTSTART;TZID=America/New_York:20250404T193000
DTEND;TZID=America/New_York:20250404T223000
DTSTAMP:20260422T155849
CREATED:20250205T094932Z
LAST-MODIFIED:20250404T181558Z
UID:16576-1743795000-1743805800@hovnanianschools.org
SUMMARY:Jack Jr. Comedy Night
DESCRIPTION:Hovnanian School PTO is excited to announce\, for the 2nd year in a row\, an adult only Comedy Night at Hovnanian School on Friday\, April 4\, 2025\, featuring comedian Jack Jr. He is coming to us all the way from California and will be joined by 2 opening acts! We look forward to bringing back this well-known Armenian/Mexican comedian\, who has been seen on ‘Netflix Is A Joke’\, Amazon Prime’s ‘Laugh After Dark\,’  and can be heard on his podcast\, ‘Comedy Club Confessions’. \nTickets are limited and will only be available for purchase online. We are offering 3 tiers of seating: VIP (1st row)\, Mid-Tier (2nd & 3rd rows) and General Admission seating. Tickets are non-refundable.  \nDoors open at 7:30PM\, with drinks and snacks available for purchase. Showtime begins at 8:30PM SHARP – doors will close 15 minutes prior to the start of the show.  \nWe look forward to seeing you there!
URL:https://hovnanianschools.org/single-event/jack-jr-comedy-night/
LOCATION:Hovnanian School\, 817 River Road\, New Milford\, NJ\, 07646\, United States
CATEGORIES:Events
ATTACH;FMTTYPE=image/jpeg:https://hovnanianschools.org/wp-content/uploads/2025/02/jack-jr.-comedy-night_1920x1080.jpg
END:VEVENT
END:VCALENDAR