BEGIN:VCALENDAR
VERSION:2.0
PRODID:-//Hovnanian School - ECPv6.15.20//NONSGML v1.0//EN
CALSCALE:GREGORIAN
METHOD:PUBLISH
X-ORIGINAL-URL:https://hovnanianschools.org
X-WR-CALDESC:Events for Hovnanian School
REFRESH-INTERVAL;VALUE=DURATION:PT1H
X-Robots-Tag:noindex
X-PUBLISHED-TTL:PT1H
BEGIN:VTIMEZONE
TZID:America/New_York
BEGIN:DAYLIGHT
TZOFFSETFROM:-0500
TZOFFSETTO:-0400
TZNAME:EDT
DTSTART:20250309T070000
END:DAYLIGHT
BEGIN:STANDARD
TZOFFSETFROM:-0400
TZOFFSETTO:-0500
TZNAME:EST
DTSTART:20251102T060000
END:STANDARD
BEGIN:DAYLIGHT
TZOFFSETFROM:-0500
TZOFFSETTO:-0400
TZNAME:EDT
DTSTART:20260308T070000
END:DAYLIGHT
BEGIN:STANDARD
TZOFFSETFROM:-0400
TZOFFSETTO:-0500
TZNAME:EST
DTSTART:20261101T060000
END:STANDARD
BEGIN:DAYLIGHT
TZOFFSETFROM:-0500
TZOFFSETTO:-0400
TZNAME:EDT
DTSTART:20270314T070000
END:DAYLIGHT
BEGIN:STANDARD
TZOFFSETFROM:-0400
TZOFFSETTO:-0500
TZNAME:EST
DTSTART:20271107T060000
END:STANDARD
END:VTIMEZONE
BEGIN:VEVENT
DTSTART;TZID=America/New_York:20260411T150000
DTEND;TZID=America/New_York:20260411T180000
DTSTAMP:20260421T204925
CREATED:20260226T212557Z
LAST-MODIFIED:20260411T044248Z
UID:19936-1775919600-1775930400@hovnanianschools.org
SUMMARY:Easter Celebration with Joëlle
DESCRIPTION:The Hovnanian School PTO is excited to celebrate Easter with a very special musical treat—the return of Joëlle for a fun-filled\, high-energy performance your children will absolutely love! 🌷🐰🎶 \nJoëlle\, a beloved Armenian children’s music singer from Montreal\, Canada\, brings springtime joy\, movement\, and imagination to the stage. Through cheerful songs and playful dancing\, she introduces children to new Armenian music while keeping them connected to their cultural roots in a lighthearted and meaningful way—perfect for the Easter season. \nAs an experienced early childhood educator\, Joëlle knows exactly how to engage young audiences\, spark laughter\, and create moments of pure delight. Her lifelong dream of making music for children comes alive in every performance\, filling the room with smiles\, giggles\, and happy energy. \nAfter the show\, families will have the opportunity to take photos with Joëlle and the Easter Bunny\, making this event even more memorable 📸🐇 \nA complimentary brunch will also be served—because no Easter celebration is complete without treats! 🥐🍓 \n🎟 Ticket Pricing \n• $25 per child \n• $45 per adult \n• Free for infants under 1 year old \nPrices increase to $35 per child and $55 per adult when purchased at the door. \nExpect an interactive\, feel-good Easter celebration where kids can sing\, dance\, and hop along—creating sweet springtime memories for children and parents alike. 🌼💛 \nLearn more about Joëlle at: www.joelleentertainment.com
URL:https://hovnanianschools.org/single-event/easter-celebration-with-joelle/
LOCATION:Hovnanian School\, 817 River Road\, New Milford\, NJ\, 07646\, United States
CATEGORIES:Events
ATTACH;FMTTYPE=image/webp:https://hovnanianschools.org/wp-content/uploads/2026/02/Joelle_2026.webp
ORGANIZER;CN="Hovnanian School":MAILTO:office@hovnanianschools.org
END:VEVENT
BEGIN:VEVENT
DTSTART;TZID=America/New_York:20260507T110000
DTEND;TZID=America/New_York:20260507T143000
DTSTAMP:20260421T204925
CREATED:20260302T193305Z
LAST-MODIFIED:20260317T021820Z
UID:19960-1778151600-1778164200@hovnanianschools.org
SUMMARY:Mother’s Day Luncheon 2026
DESCRIPTION:Hovnanian School PTO invites you to an Armenian-inspired\, Mother’s Day Luncheon “Rooted in Love” on Thursday\, May 7th at 11:00 AM. Join us\, as we celebrate all the incredible women in our community. \n  \nTickets are $110. Please purchase your ticket(s) through the link below. Please note\, there is no additional fee for online purchases. \n  \nIf you would like to pay by check\, please email mdlhov2026@gmail.com with the following information: \n  \n\nnumber of tickets\nnames and email addresses of each ticket holder\nseating requests\n\n  \nPlease make your check payable to Hovnanian PTO and send / bring your check to the Hovnanian School office.  \n  \nReserve your spot by April 27th! Your ticket purchase confirms your reservation. \n  \nIf you have any questions\, please email us at mdlhov2026@gmail.com. \n  \nWe look forward to seeing you on May 7th! 
URL:https://hovnanianschools.org/single-event/mothers-day-luncheon-2026/
LOCATION:Hovnanian School\, 817 River Road\, New Milford\, NJ\, 07646\, United States
CATEGORIES:Events
ATTACH;FMTTYPE=image/jpeg:https://hovnanianschools.org/wp-content/uploads/2026/03/MDLbanner-scaled.jpg
ORGANIZER;CN="Hovnanian School":MAILTO:office@hovnanianschools.org
END:VEVENT
END:VCALENDAR